BEGIN:VCALENDAR
VERSION:2.0
PRODID:-//ZLZ SR - ECPv4.2.7//NONSGML v1.0//EN
CALSCALE:GREGORIAN
METHOD:PUBLISH
X-WR-CALNAME:ZLZ SR
X-ORIGINAL-URL:https://zlz.sk/en
X-WR-CALDESC:Events for ZLZ SR
BEGIN:VEVENT
DTSTART;TZID=UTC+2:20220413T130000
DTEND;TZID=UTC+2:20220413T150000
DTSTAMP:20260426T040035
CREATED:20220331T060122
LAST-MODIFIED:20220331T060122
UID:77012-1649854800-1649862000@zlz.sk
SUMMARY:(Slovensky) WEBINÁR: Reštriktívne opatrenia voči Rusku z pohľadu ciel (zákaz vývozu a dovozu tovaru)
DESCRIPTION:Sorry\, this entry is only available in Slovak.
URL:https://zlz.sk/en/event/webinar-restriktivne-opatrenia-voci-rusku-pohladu-ciel-zakaz-vyvozu-dovozu-tovaru/
END:VEVENT
END:VCALENDAR