BEGIN:VCALENDAR
VERSION:2.0
PRODID:-//ZLZ SR - ECPv4.2.7//NONSGML v1.0//EN
CALSCALE:GREGORIAN
METHOD:PUBLISH
X-WR-CALNAME:ZLZ SR
X-ORIGINAL-URL:https://zlz.sk
X-WR-CALDESC:Events for ZLZ SR
BEGIN:VEVENT
DTSTART;TZID=UTC+2:20220331T100000
DTEND;TZID=UTC+2:20220331T122000
DTSTAMP:20260426T040558
CREATED:20220203T074659
LAST-MODIFIED:20220221T124713
UID:76957-1648720800-1648729200@zlz.sk
SUMMARY:Online seminar: Ships\, trains\, terminals – Polish offer for Slovak business expansion
DESCRIPTION:Thursday\, 31th March 2022 starting at 10:00\,\n\nInvitation is HERE\n\nOnline seminar Via MS Teams\, duration 2 hours 20 minutes\, in English\n\nTransport & Logistics – how do they cope with global pandemic?\n\nShips\, trains\, terminals – Polish offer for Slovak business expansion\n\nShort & Long distance
URL:https://zlz.sk/event/online-seminar-ships-trains-terminals-polish-offer-for-slovak-business-expansion/
END:VEVENT
END:VCALENDAR