BEGIN:VCALENDAR
VERSION:2.0
PRODID:-//ZLZ SR - ECPv4.2.7//NONSGML v1.0//EN
CALSCALE:GREGORIAN
METHOD:PUBLISH
X-WR-CALNAME:ZLZ SR
X-ORIGINAL-URL:https://zlz.sk/de
X-WR-CALDESC:Events for ZLZ SR
BEGIN:VEVENT
DTSTART;VALUE=DATE:20251106
DTEND;VALUE=DATE:20251106
DTSTAMP:20260425T165648
CREATED:20250929
LAST-MODIFIED:20251009
UID:78030-1762387200-1762473599@zlz.sk
SUMMARY:(Slovensky) Odborná konferencia Zväzu logistiky a zasielateľstva SR 2025
DESCRIPTION:Leider ist der Eintrag nur auf Slowakisch verfügbar.
URL:https://zlz.sk/de/event/odborna-konferencia-zvazu-logistiky-zasielatelstva-sr-2025/
LOCATION:Ambrušova 7\, Bratislava
END:VEVENT
END:VCALENDAR