BEGIN:VCALENDAR
VERSION:2.0
PRODID:-//ZLZ SR - ECPv4.2.7//NONSGML v1.0//EN
CALSCALE:GREGORIAN
METHOD:PUBLISH
X-WR-CALNAME:ZLZ SR
X-ORIGINAL-URL:https://zlz.sk
X-WR-CALDESC:Events for ZLZ SR
BEGIN:VEVENT
DTSTART;TZID=UTC+2:20231109T103000
DTEND;TZID=UTC+2:20231109T160000
DTSTAMP:20260426T002326
CREATED:20230421T070553
LAST-MODIFIED:20231106T095042
UID:77399-1699525800-1699545600@zlz.sk
SUMMARY:Odborná konferencia ZLZ SR 2023 „Aké výzvy a nástrahy čakajú logistiku a zasielateľstvo“
DESCRIPTION:9.novembra 2023 od 10:30\n\nhotel KORMORÁN****\n\nŠamorín-Čilistov\n\nPozvánku s programom nájdete TU
URL:https://zlz.sk/event/odborna-konferencia-zlz-sr-2023/
END:VEVENT
END:VCALENDAR