BEGIN:VCALENDAR
VERSION:2.0
PRODID:-//ZLZ SR - ECPv4.2.7//NONSGML v1.0//EN
CALSCALE:GREGORIAN
METHOD:PUBLISH
X-WR-CALNAME:ZLZ SR
X-ORIGINAL-URL:https://zlz.sk
X-WR-CALDESC:Events for ZLZ SR
BEGIN:VEVENT
DTSTART;TZID=UTC+2:20240522T090000
DTEND;TZID=UTC+2:20240523T235500
DTSTAMP:20260426T003427
CREATED:20240409T085247
LAST-MODIFIED:20240409T085354
UID:77673-1716368400-1716508500@zlz.sk
SUMMARY:CEE Freight Conference 2024 Visegrad
DESCRIPTION:Dátum: 22. – 23. mája 2024\n\nMiesto: Hotel Visegrád - H-2025 Visegrád\, Rév u. 15.\, Maďarsko & online\n\nProgram a registrácia:  Esemény | Asociácia maďarských špeditérov (szallitmanyozok.hu)\n\n 
URL:https://zlz.sk/event/cee-freight-conference-2024-visegrad/
END:VEVENT
END:VCALENDAR