BEGIN:VCALENDAR
VERSION:2.0
PRODID:-//ZLZ SR - ECPv4.2.7//NONSGML v1.0//EN
CALSCALE:GREGORIAN
METHOD:PUBLISH
X-WR-CALNAME:ZLZ SR
X-ORIGINAL-URL:https://zlz.sk
X-WR-CALDESC:Events for ZLZ SR
BEGIN:VEVENT
DTSTART;TZID=UTC+2:20230427T080000
DTEND;TZID=UTC+2:20230428T170000
DTSTAMP:20260426T020322
CREATED:20230320T124847
LAST-MODIFIED:20230320T124847
UID:77371-1682582400-1682701200@zlz.sk
SUMMARY:BUSINESS MIXER\, Soul\, Južná Kórea
DESCRIPTION:27.- 28. apríl 2023\, Soul\, Južná Kórea\n\nOrganizuje PORT GDAŃSK\n\nProgram a registračný formulár:\n\nhttps://businessmixer.portgdansk.pl/
URL:https://zlz.sk/event/business-mixer-soul-juzna-korea/
END:VEVENT
END:VCALENDAR