BEGIN:VCALENDAR
VERSION:2.0
PRODID:-//ZLZ SR - ECPv4.2.7//NONSGML v1.0//EN
CALSCALE:GREGORIAN
METHOD:PUBLISH
X-WR-CALNAME:ZLZ SR
X-ORIGINAL-URL:https://zlz.sk/en
X-WR-CALDESC:Events for ZLZ SR
BEGIN:VEVENT
DTSTART;TZID=UTC+2:20230315T093000
DTEND;TZID=UTC+2:20230315T133000
DTSTAMP:20260425T230443
CREATED:20230206T143413
LAST-MODIFIED:20230206T143413
UID:77333-1678872600-1678887000@zlz.sk
SUMMARY:(Slovensky) seminár DOPRAVA a LOGISTIKA
DESCRIPTION:Sorry\, this entry is only available in Slovak.
URL:https://zlz.sk/en/event/seminar-doprava-logistika/
END:VEVENT
END:VCALENDAR