BEGIN:VCALENDAR
VERSION:2.0
PRODID:-//ZLZ SR - ECPv4.2.7//NONSGML v1.0//EN
CALSCALE:GREGORIAN
METHOD:PUBLISH
X-WR-CALNAME:ZLZ SR
X-ORIGINAL-URL:https://zlz.sk/en
X-WR-CALDESC:Events for ZLZ SR
BEGIN:VEVENT
DTSTART;TZID=UTC+2:20221013T090000
DTEND;TZID=UTC+2:20221013T120000
DTSTAMP:20260426T040055
CREATED:20220923T095745
LAST-MODIFIED:20220923T095806
UID:77149-1665651600-1665662400@zlz.sk
SUMMARY:(Slovensky) ONLINE Konferencia o novej európskej smernici NIS 2_kybernetická bezpečnosť
DESCRIPTION:Sorry\, this entry is only available in Slovak.
URL:https://zlz.sk/en/event/online-konferencia-novej-europskej-smernici-nis-2_kyberneticka-bezpecnost/
END:VEVENT
END:VCALENDAR