BEGIN:VCALENDAR
VERSION:2.0
PRODID:-//ZLZ SR - ECPv4.2.7//NONSGML v1.0//EN
CALSCALE:GREGORIAN
METHOD:PUBLISH
X-WR-CALNAME:ZLZ SR
X-ORIGINAL-URL:https://zlz.sk/en
X-WR-CALDESC:Events for ZLZ SR
BEGIN:VEVENT
DTSTART;TZID=UTC+2:20221005T090000
DTEND;TZID=UTC+2:20221007T170000
DTSTAMP:20260426T035933
CREATED:20190906T070700
LAST-MODIFIED:20220711T100453
UID:75827-1664960400-1665162000@zlz.sk
SUMMARY:(Slovensky) Medzinárodná konferencia železničnej dopravy IRFC 2022 v Prahe
DESCRIPTION:Sorry\, this entry is only available in Slovak.
URL:https://zlz.sk/en/event/medzinarodna-konferencia-zeleznicnej-dopravy-irfc-2020/
END:VEVENT
END:VCALENDAR