BEGIN:VCALENDAR
VERSION:2.0
PRODID:-//ZLZ SR - ECPv4.2.7//NONSGML v1.0//EN
CALSCALE:GREGORIAN
METHOD:PUBLISH
X-WR-CALNAME:ZLZ SR
X-ORIGINAL-URL:https://zlz.sk/de
X-WR-CALDESC:Events for ZLZ SR
BEGIN:VEVENT
DTSTART;TZID=UTC+2:20241024T100000
DTEND;TZID=UTC+2:20241024T123000
DTSTAMP:20260425T182428
CREATED:20240606T054923
LAST-MODIFIED:20240919T073145
UID:77695-1729764000-1729773000@zlz.sk
SUMMARY:Zasadnutie železničnej sekcie ZLZ SR v Jasnej
DESCRIPTION:24.10.2024 o 10:00\n\nGrand Hotel v Jasnej
URL:https://zlz.sk/de/event/zasadnutie-zeleznicnej-sekcie-zlz-sr-jasnej/
END:VEVENT
END:VCALENDAR