BEGIN:VCALENDAR
VERSION:2.0
PRODID:-//ZLZ SR - ECPv4.2.7//NONSGML v1.0//EN
CALSCALE:GREGORIAN
METHOD:PUBLISH
X-WR-CALNAME:ZLZ SR
X-ORIGINAL-URL:https://zlz.sk/de
X-WR-CALDESC:Events for ZLZ SR
BEGIN:VEVENT
DTSTART;TZID=UTC+2:20230207T090000
DTEND;TZID=UTC+2:20230207T103000
DTSTAMP:20260426T022551
CREATED:20230111T104354
LAST-MODIFIED:20230111T104354
UID:77318-1675760400-1675765800@zlz.sk
SUMMARY:(Slovensky) WEBINÁR: Zmeny v ADR 2023 platné od 1.1.2023
DESCRIPTION:Leider ist der Eintrag nur auf Slowakisch verfügbar.
URL:https://zlz.sk/de/event/webinar-zmeny-adr-2023-platne-1-1-2023/
END:VEVENT
END:VCALENDAR