BEGIN:VCALENDAR
VERSION:2.0
PRODID:-//ZLZ SR - ECPv4.2.7//NONSGML v1.0//EN
CALSCALE:GREGORIAN
METHOD:PUBLISH
X-WR-CALNAME:ZLZ SR
X-ORIGINAL-URL:https://zlz.sk/de
X-WR-CALDESC:Events for ZLZ SR
BEGIN:VEVENT
DTSTART;TZID=UTC+2:20220608T090000
DTEND;TZID=UTC+2:20220608T120000
DTSTAMP:20260426T035907
CREATED:20220406T100036
LAST-MODIFIED:20220406T100036
UID:77018-1654678800-1654689600@zlz.sk
SUMMARY:(Slovensky) WEBINÁR: Nadmerná a nadrozmerná doprava v podmienkach SR – Technické podmienky TP103
DESCRIPTION:Leider ist der Eintrag nur auf Slowakisch verfügbar.
URL:https://zlz.sk/de/event/webinar-nadmerna-nadrozmerna-doprava-podmienkach-sr-technicke-podmienky-tp103/
END:VEVENT
END:VCALENDAR