BEGIN:VCALENDAR
VERSION:2.0
PRODID:-//ZLZ SR - ECPv4.2.7//NONSGML v1.0//EN
CALSCALE:GREGORIAN
METHOD:PUBLISH
X-WR-CALNAME:ZLZ SR
X-ORIGINAL-URL:https://zlz.sk/de
X-WR-CALDESC:Events for ZLZ SR
BEGIN:VEVENT
DTSTART;VALUE=DATE:20250602
DTEND;VALUE=DATE:20250605
DTSTAMP:20260425T165420
CREATED:20250515
LAST-MODIFIED:20250515
UID:77964-1748822400-1749167999@zlz.sk
SUMMARY:(Slovensky) Veľtrh Transport a Logistika\, Mníchov
DESCRIPTION:Leider ist der Eintrag nur auf Slowakisch verfügbar.
URL:https://zlz.sk/de/event/veltrh-transport-logistika-mnichov/
ATTACH;FMTTYPE=image/jpeg:https://zlz.sk/wp-content/uploads/2025/05/Banner-2-s-upresnenim-stanku.jpg
END:VEVENT
END:VCALENDAR