BEGIN:VCALENDAR
VERSION:2.0
PRODID:-//ZLZ SR - ECPv4.2.7//NONSGML v1.0//EN
CALSCALE:GREGORIAN
METHOD:PUBLISH
X-WR-CALNAME:ZLZ SR
X-ORIGINAL-URL:https://zlz.sk/de
X-WR-CALDESC:Events for ZLZ SR
BEGIN:VEVENT
DTSTART;TZID=UTC+2:20230509T090000
DTEND;TZID=UTC+2:20230512T160000
DTSTAMP:20260425T231118
CREATED:20230113T172430
LAST-MODIFIED:20230302T153354
UID:77321-1683622800-1683907200@zlz.sk
SUMMARY:(Slovensky) Veľtrh transport a logistika Mníchov 09.-12.máj 2023
DESCRIPTION:Leider ist der Eintrag nur auf Slowakisch verfügbar.
URL:https://zlz.sk/de/event/veltrh-transport-logistika-mnichov-09-12-maj-2023/
END:VEVENT
END:VCALENDAR