BEGIN:VCALENDAR
VERSION:2.0
PRODID:-//ZLZ SR - ECPv4.2.7//NONSGML v1.0//EN
CALSCALE:GREGORIAN
METHOD:PUBLISH
X-WR-CALNAME:ZLZ SR
X-ORIGINAL-URL:https://zlz.sk/de
X-WR-CALDESC:Events for ZLZ SR
BEGIN:VEVENT
DTSTART;TZID=UTC+2:20231024T090000
DTEND;TZID=UTC+2:20231024T110000
DTSTAMP:20260426T003102
CREATED:20231005T110436
LAST-MODIFIED:20231005T110436
UID:77467-1698138000-1698145200@zlz.sk
SUMMARY:Meeting over "CUSTOMS" COFFEE dňa 24.10.2023 od 9:00 v Košiciach
DESCRIPTION:Spoločnosť PROSMAN A PAVLOVIČ ADVOKÁTSKA KANCELÁRIA\, S.R.O.\, člen ZLZ SR\,  pozýva na stretnutie pri dobrej káve s raňajkami v priestoroch hotela DoubleTree by Hilton Košice\, dňa 24. 10. 2023 od 9:00 do 11:00 hod.\n\nDeň začneme neformálnou diskusiou o aktuálnych  témach v „colníctve“ ako sú :\n\n \tsamozdanenie DPH pri dovoze – legislatívny zámer a podmienky možnosti samozdanenia\,\n \tAEO/SHS – možnosti získania statusu\, predpoklady a výhody\,\n \treštrikcie voči Rusku – vysvetlenie mechanizmu reštrikcií a väzby na dual use mechanizmu\, preverovanie položiek\,\n \tuhlíkové clo – legislatíva\, nové povinnosti súvisiace s jeho zavedením\,\n \tpreukazovanie pôvodu železa a ocele pri dovoze do Únie od 30. 9. 2023\,\n \tzdaňovanie LNG\, zdaňovanie bioplynu\,\n \tlegislatívne zámery ohľadne prevádzkovania čerpacích staníc a obchodovania s PHM\,\n \tiné aktuálne témy z oblasti SPD.\n\nTešíme sa na stretnutie!\n\nRegistrácia na adrese: \n\nMartina Thomková \n\noffice@ppak.sk \n\n \n\nspôsobom: zúčastním sa : meno priezvisko : obchodné meno spoločnosti\n\nJUDr.   Maroš P R O S M A N\n\nadvokát a konateľ | attorney & partner\n\nPROSMAN A PAVLOVIČ ADVOKÁTSKA KANCELÁRIA\, S.R.O.
URL:https://zlz.sk/de/event/stretnutie-pri-customs-coffee-dna-24-10-2023-900-kosiciach/
END:VEVENT
END:VCALENDAR