BEGIN:VCALENDAR
VERSION:2.0
PRODID:-//ZLZ SR - ECPv4.2.7//NONSGML v1.0//EN
CALSCALE:GREGORIAN
METHOD:PUBLISH
X-WR-CALNAME:ZLZ SR
X-ORIGINAL-URL:https://zlz.sk/de
X-WR-CALDESC:Events for ZLZ SR
BEGIN:VEVENT
DTSTART;TZID=UTC+2:20211111T123000
DTEND;TZID=UTC+2:20211111T143000
DTSTAMP:20260426T040010
CREATED:20211108T085359
LAST-MODIFIED:20211108T085408
UID:76853-1636633800-1636641000@zlz.sk
SUMMARY:(Slovensky) Prvá prednáška spojená s diskusiou bude o vývoji judikatúry NS SR v oblasti rozhodcovského konania\, druhá o cenných skúsenostiach z činnosti Rozhodčího soudu.
DESCRIPTION:Leider ist der Eintrag nur auf Slowakisch verfügbar.
URL:https://zlz.sk/de/event/prva-prednaska-spojena-diskusiou-vyvoji-judikatury-ns-sr-oblasti-rozhodcovskeho-konania-druha-cennych-skusenostiach-cinnosti-rozhodciho-soudu/
END:VEVENT
END:VCALENDAR