BEGIN:VCALENDAR
VERSION:2.0
PRODID:-//ZLZ SR - ECPv4.2.7//NONSGML v1.0//EN
CALSCALE:GREGORIAN
METHOD:PUBLISH
X-WR-CALNAME:ZLZ SR
X-ORIGINAL-URL:https://zlz.sk/de
X-WR-CALDESC:Events for ZLZ SR
BEGIN:VEVENT
DTSTART;TZID=UTC+2:20220331T100000
DTEND;TZID=UTC+2:20220331T122000
DTSTAMP:20260426T023803
CREATED:20220203T074659
LAST-MODIFIED:20220221T124713
UID:76957-1648720800-1648729200@zlz.sk
SUMMARY:(Slovensky) Online seminar: Ships\, trains\, terminals – Polish offer for Slovak business expansion
DESCRIPTION:Leider ist der Eintrag nur auf Slowakisch und Amerikanisches Englisch verfügbar.
URL:https://zlz.sk/de/event/online-seminar-ships-trains-terminals-polish-offer-for-slovak-business-expansion/
END:VEVENT
END:VCALENDAR