BEGIN:VCALENDAR
VERSION:2.0
PRODID:-//ZLZ SR - ECPv4.2.7//NONSGML v1.0//EN
CALSCALE:GREGORIAN
METHOD:PUBLISH
X-WR-CALNAME:ZLZ SR
X-ORIGINAL-URL:https://zlz.sk/de
X-WR-CALDESC:Events for ZLZ SR
BEGIN:VEVENT
DTSTART;TZID=UTC+2:20221103T090000
DTEND;TZID=UTC+2:20221103T160000
DTSTAMP:20260426T005240
CREATED:20220414T062741
LAST-MODIFIED:20221018T060030
UID:77031-1667466000-1667491200@zlz.sk
SUMMARY:(Slovensky) Odborná konferencia 2022 ZLZ SR
DESCRIPTION:Leider ist der Eintrag nur auf Slowakisch verfügbar.
URL:https://zlz.sk/de/event/odborna-konferencia-2022-zlz-sr/
END:VEVENT
END:VCALENDAR