BEGIN:VCALENDAR
VERSION:2.0
PRODID:-//ZLZ SR - ECPv4.2.7//NONSGML v1.0//EN
CALSCALE:GREGORIAN
METHOD:PUBLISH
X-WR-CALNAME:ZLZ SR
X-ORIGINAL-URL:https://zlz.sk/de
X-WR-CALDESC:Events for ZLZ SR
BEGIN:VEVENT
DTSTART;TZID=UTC+8:20221122T080000
DTEND;TZID=UTC+8:20221123T170000
DTSTAMP:20260426T005347
CREATED:20220921T111909
LAST-MODIFIED:20220921T111909
UID:77143-1669104000-1669222800@zlz.sk
SUMMARY:(Slovensky) Konferencia Asian Logistics\, Maritime and Aviation Conference (ALMAC)
DESCRIPTION:Leider ist der Eintrag nur auf Slowakisch verfügbar.
URL:https://zlz.sk/de/event/konferencia-asian-logistics-maritime-and-aviation-conference-almac/
END:VEVENT
END:VCALENDAR