BEGIN:VCALENDAR
VERSION:2.0
PRODID:-//ZLZ SR - ECPv4.2.7//NONSGML v1.0//EN
CALSCALE:GREGORIAN
METHOD:PUBLISH
X-WR-CALNAME:ZLZ SR
X-ORIGINAL-URL:https://zlz.sk/de
X-WR-CALDESC:Events for ZLZ SR
BEGIN:VEVENT
DTSTART;TZID=UTC+2:20221011T080000
DTEND;TZID=UTC+2:20221012T150000
DTSTAMP:20260426T004452
CREATED:20220818T112335
LAST-MODIFIED:20220818T112335
UID:77132-1665475200-1665586800@zlz.sk
SUMMARY:(Slovensky) CEE Automotive Supply Chain 2022 v Žiline
DESCRIPTION:Leider ist der Eintrag nur auf Slowakisch verfügbar.
URL:https://zlz.sk/de/event/cee-automotive-supply-chain-2022-ziline/
END:VEVENT
END:VCALENDAR